Workbook
Name Slicer_Status: #N/A
Name Slicer_Status1: #N/A

Sheet Guidance
B2: TIPS TO COMPLETING BUDGET AND EXPENDITURE REPORT
B4: 1 | C4: Cover Page | E4: Enter grant agreement number, name of NDA or DP, IPR reporting period
C5: RESOURCES
B6: 2 | C6: Fund Cumulative Prior Period | E6: Total funds received before current reporting period, at gross
B7: 3 | C7: Fund Received Current Period | E7: Total funds received during the current reporting period, at gross
B8: 4 | C8: Interest Income | E8: Interest earned on the deposit account
C9: BUDGET AND EXPENDITURE
B10: 5 | C10: Outcome | E10: Describe as per approved readiness proposal and grant agreement; Do not leave cell blank
B11: 6 | C11: Output | E11: Describe as per approved readiness proposal and grant agreement; Do not leave cell blank
B12: 7 | C12: Cost Categories | E12: Must reconcile with approved budget or the approved last revision to budget; Any new cost categories may be added through the Budget Category sheet
B13: 8 | C13: Last Approved Budget | E13: Refers to the original approved budget or the approved last revision to budget
B14: 9 | D14: date | E14: Enter the date of approval of original budget or the last revision to budget
B15: 10 | C15: Budget Reallocation | E15: Proposed changes to approved budget; Enter positive (+) number for additional budget (i.e., to increase budget) and negative (-) number to reallocate budget (i.e., to decrease budget); Reallocations must be within applicable limit
B16: 11 | D16: applicable policy | E16: If project was granted COVID 6-months NCE, select COVID Adaptive Measures; Otherwise, select Standard Policy; Do not leave cell blank
B17: 12 | C17: Revised Budget | E17: Revised budget after reallocation within the limit; The Delivery Partner Fee threshold approved in the original budget must be maintained
B18: 13 | C18: Cumulative Prior Period Expenditure | E18: Total actual expenditures paid before the current reporting period; must reconcile with accounting books and records; DP Fee limit applies to total actual expenditures
B19: 14 | C19: Expenditure Current Period | E19: Total actual expenditures paid during the current reporting period; must reconcile with accounting books and records; DP Fee limit applies to total actual expenditures
B20: 15 | C20: Commitment | E20: Total unpaid committed amounts
B21: 16 | C21: Available Budget | E21: Remaining unutilized budget; Each budget line item may fall below zero but must be zero or greater than zero at summary level
C22: SUMMARY
B23: 17 | C23: Outcome | E23: Insert a line for every outcome added
B24: 18 | C24: Last Approved Budget | E24: Copy formula for every line inserted
B25: 19 | C25: Budget Reallocation | E25: Copy formula for every line inserted
B26: 20 | C26: Revised Budget | E26: Copy formula for every line inserted
B27: 21 | C27: Change in % | E27: Copy formula for every line inserted
B28: 22 | C28: Cumulative Prior Period Expenditure | E28: Copy formula for every line inserted
B29: 23 | C29: Expenditure Current Period | E29: Copy formula for every line inserted
B30: 24 | C30: Commitment | E30: Copy formula for every line inserted
B31: 25 | C31: Total Expenditure | E31: Copy formula for every line inserted
B32: 26 | C32: Available Budget | E32: Remaining unutilized budget; Must be zero or greater than zero

Sheet Cover Page
B8: Readiness and
B9: Preparatory Support
B10: Budget and Expenditure
B11: Reporting
B21: Grant Agreement Number | E21: SRB-RS-005
B22: NDA/Delivery Patner Name | E22: Ministry of Environmental Protection/ UNDP
B23: Reporting Period | E23: 20 June to 31 December 2025

Sheet Budget and Expenditure Report
B2: SECTION 4: BUDGET & EXPENDITURE REPORTING | J2: Period Covered: | L2: ='Cover Page'!E23 -> 20 June to 31 December 2025
B4: Resources | E4: Fund Cumulative Prior Period | F4: Fund Received Current Period | G4: Total Fund Received | H4: Remarks
B5: a. Fund Received from GCF | E5: 0 | F5: 380618 | G5: =SUM(E5:F5) -> 380618
B6: b. Interest Income
B7: c. Other Resources
B8: Total Resources | F8: =SUM(F5:F7) -> 380618 | G8: =SUM(G5:G7) -> 380618
B9: Budget and Expenditure
B10: Outcome | C10: Output | D10: Cost Categories | E10: Last Approved Budget | F10: Budget Reallocation | G10: Revised Budget | H10: Expenditure | L10: Available Budget
E11: 45929 | F11: Standard Policy* | G11: After Reallocation | H11: Cumulative Prior Period | I11: Current Period | J11: Commitment | K11: Total Expenditure
B12: Outcome 3.1: Adaptation planning governance and institutional coordination strengthened | C12: Output 3.1.1. National, sub-national and/or sectoral adaptation plans developed or updated | D12: Consultant - Individual - Local | E12: 145000 | F12: -70000 | G12: =E12+F12 -> 75000 | K12: =H12+I12+J12 -> 0 | L12: =G12-K12 -> 75000 | N12: Engagement of 1 NAP Specialists (as per ProDoc, total 2 NAP Specialist) under technical outputs as expert assistance to the Government, under different contract modality for the same position.
D13: Contractual services-companies | E13: 100000 | G13: =E13+F13 -> 100000 | I13: 1350 | K13: =H13+I13+J13 -> 1350 | L13: =G13-K13 -> 98650
C14: Output 3.1.2 Adaptation policy and/or regulations developed or strengthened for integrating adaptation actions/measures in sectoral, subnational and national development strategies and plans | D14: Contract Services Individuals | E14: 0 | F14: 70000 | G14: =E14+F14 -> 70000 | H14: 0 | I14: 0 | J14: 0 | K14: =H14+I14+J14 -> 0 | L14: =G14-K14 -> 70000 | N14: Engagement of 1 NAP Specialists (as per ProDoc, total 2 NAP Specialist) under technical outputs as expert assistance to the Government, under different contract modality for the same position.
D15: IT Equipment | E15: 8000 | G15: =E15+F15 -> 8000 | H15: 0 | I15: 2214.73 | J15: 0 | K15: =H15+I15+J15 -> 2214.73 | L15: =G15-K15 -> 5785.27
C16: Output 3.1.4 Stakeholder engagement frameworks, agreements and awareness raising conducted or strengthened | D16: Audio Visual & Printing | E16: 500 | G16: =E16+F16 -> 500 | H16: 0 | I16: 0 | J16: 0 | K16: =H16+I16+J16 -> 0 | L16: =G16-K16 -> 500
D17: Workshop/Training | E17: 21693 | G17: =E17+F17 -> 21693 | H17: 0 | I17: =3989.88+248+479.42-9.12 -> 4708.18 | J17: 0 | K17: =H17+I17+J17 -> 4708.18 | L17: =G17-K17 -> 16984.82
C18: Outcome total : | E18: =SUM(E12:E17) -> 275193 | F18: =SUM(F12:F17) -> 0 | G18: =SUM(G12:G17) -> 275193 | H18: =SUM(H12:H17) -> 0 | I18: =SUM(I12:I17) -> 8272.91 | J18: =SUM(J12:J17) -> 0 | K18: =SUM(K12:K17) -> 8272.91 | L18: =SUM(L12:L17) -> 266920.09
B19: Outcome 3.2: Evidence produced to design adaptation solutions for maximum impact | C19: Output 3.2.1 Adaptation impact monitoring, evaluation and learning systems established or strengthened for strategic planning and investment | D19: Consultant - Individual - Local | E19: =175000+145000 -> 320000 | F19: -145000 | G19: =E19+F19 -> 175000 | H19: 0 | I19: 0 | J19: 0 | K19: =H19+I19+J19 -> 0 | L19: =G19-K19 -> 175000 | N19: Engagement of 1 NAP Specialists (as per ProDoc, total 2 NAP Specialist) under technical outputs as expert assistance to the Government, under different contract modality for the same position.
D20: Consultant - Individual - International | E20: 20000 | G20: =E20+F20 -> 20000 | H20: 0 | I20: 0 | J20: 0 | K20: =H20+I20+J20 -> 0 | L20: =G20-K20 -> 20000
D21: Contractual services-companies | E21: 30000 | G21: =E21+F21 -> 30000 | H21: 0 | I21: 0 | J21: 0 | K21: =H21+I21+J21 -> 0 | L21: =G21-K21 -> 30000
D22: Contract Services Individuals | F22: 145000 | G22: =E22+F22 -> 145000 | H22: 0 | I22: 0 | J22: 0 | K22: =H22+I22+J22 -> 0 | L22: =G22-K22 -> 145000 | N22: Engagement of 1 NAP Specialists (as per ProDoc, total 2 NAP Specialist) under technical outputs as expert assistance to the Government, under different contract modality for the same position.
D23: Workshop/Training | E23: 24000 | G23: =E23+F23 -> 24000 | H23: 0 | I23: 1599.72 | J23: 0 | K23: =H23+I23+J23 -> 1599.72 | L23: =G23-K23 -> 22400.28
D24: Audio Visual & Printing | E24: 500 | G24: =E24+F24 -> 500 | H24: 0 | I24: 0 | J24: 0 | K24: =H24+I24+J24 -> 0 | L24: =G24-K24 -> 500
D25: Miscellaneous Expenses | E25: 7000 | F25: 0 | G25: =E25+F25 -> 7000 | H25: 0 | I25: 11.85 | J25: 0 | K25: =H25+I25+J25 -> 11.85 | L25: =G25-K25 -> 6988.15
C26: Outcome total : | E26: =SUM(E19:E25) -> 401500 | F26: =SUM(F19:F25) -> 0 | G26: =SUM(G19:G25) -> 401500 | H26: =SUM(H19:H25) -> 0 | I26: =SUM(I19:I25) -> 1611.57 | J26: =SUM(J19:J25) -> 0 | K26: =SUM(K19:K25) -> 1611.57 | L26: =SUM(L19:L25) -> 399888.43
B27: Outcome 3.3: Private sector engagement in adaptation catalyzed | C27: Outcome 3.3.1 Strategies, policies, and incentives developed to foster private investment in adaptation solutions | D27: Contractual services-companies | E27: 25000 | G27: =SUM(E27:F27) -> 25000 | H27: 0 | I27: 0 | J27: 0 | K27: =H27+I27+J27 -> 0 | L27: =G27-K27 -> 25000
C28: Outcome total : | E28: =SUM(E27:E27) -> 25000 | F28: =SUM(F27:F27) -> 0 | G28: =SUM(G27:G27) -> 25000 | H28: =H27 -> 0 | I28: =I27 -> 0 | J28: =J27 -> 0 | K28: =K27 -> 0 | L28: =SUM(L27:L27) -> 25000
B29: Outcome 3.4: Adaptation finance increased | C29: Output 3.4.2 Concept notes developed for adaptation priority actions | D29: Professional Services – Companies/Firm | E29: 70000 | G29: =SUM(E29:F29) -> 70000 | H29: 0 | I29: 0 | J29: 0 | K29: =H29+I29+J29 -> 0 | L29: =G29-K29 -> 70000
C30: Output 3.4.3 National systems developed for tracking adaptation national and international finance flows | H30: 0 | I30: 0 | J30: 0 | K30: =H30+I30+J30 -> 0
C31: Outcome total : | E31: =SUM(E29:E30) -> 70000 | F31: =SUM(F29:F30) -> 0 | G31: =SUM(G29:G30) -> 70000 | H31: =H30+H29 -> 0 | I31: =I30+I29 -> 0 | J31: =J30+J29 -> 0 | K31: =K30+K29 -> 0 | L31: =SUM(L29:L30) -> 70000
B32: Project Outcome total | E32: =E31+E28+E26+E18 -> 771693 | F32: =F31+F28+F26+F18 -> 0 | G32: =G31+G28+G26+G18 -> 771693 | H32: =H31+H28+H26+H18 -> 0 | I32: =I31+I28+I26+I18 -> 9884.48 | J32: =J31+J28+J26+J18 -> 0 | K32: =K31+K28+K26+K18 -> 9884.48 | L32: =L18+L26+L28+L31 -> 761808.52
B33: Project Management Cost | D33: Contract Services Individuals | E33: 48000 | G33: =E33+F33 -> 48000 | H33: 0 | I33: 0 | J33: 0 | K33: =H33+I33+J33 -> 0 | L33: =G33-K33 -> 48000
D34: Audit Fee | E34: 6000 | G34: =E34+F34 -> 6000 | H34: 0 | I34: 0 | J34: 0 | K34: =H34+I34+J34 -> 0 | L34: =G34-K34 -> 6000
D35: Travel – Local | E35: 3200 | G35: =E35+F35 -> 3200 | H35: 0 | I35: 333.35 | J35: 0 | K35: =H35+I35+J35 -> 333.35 | L35: =G35-K35 -> 2866.65
D36: Office Supplies | E36: 600 | G36: =E36+F36 -> 600 | H36: 0 | I36: 0 | J36: 0 | K36: =H36+I36+J36 -> 0 | L36: =G36-K36 -> 600
D37: PMC total | E37: =SUM(E33:E36) -> 57800 | F37: =SUM(F33:F36) -> 0 | G37: =SUM(G33:G36) -> 57800 | H37: =SUM(H33:H36) -> 0 | I37: =SUM(I33:I36) -> 333.35 | J37: =SUM(J33:J36) -> 0 | K37: =SUM(K33:K36) -> 333.35 | L37: =SUM(L33:L36) -> 57466.65
B38: Contingency | E38: 0 | G38: =E38+F38 -> 0 | H38: 0 | I38: 0 | J38: 0 | K38: =SUM(H38:J38) -> 0 | L38: =G38-K38 -> 0
B39: Delivery Partner Fee (Refer to 'Guidance' tab on use of DP Fee) | E39: 70507 | G39: =E39+F39 -> 70507 | H39: 0 | I39: =(I32+I37)*0.085 -> 868.51555 | J39: 0 | K39: =SUM(H39:J39) -> 868.51555 | L39: =G39-K39 -> 69638.484
B40: Project total | E40: =E32+E37+E38+E39 -> 900000 | F40: =F32+F37+F38+F39 -> 0 | G40: =G32+G37+G38+G39 -> 900000 | H40: =H32+H37+H38+H39 -> 0 | I40: =I32+I37+I38+I39 -> 11086.346 | J40: =J32 -> 0 | K40: =I40+J40 -> 11086.346 | L40: =L32+L37+L38+L39 -> 888913.65
B41: =IF(F11="Standard Policy*","*Refer to UNDP Readiness and Preparatory Support Framework Agreement for further guidance: https://www.greenclimate.fund/document/readiness-framework-agreement-undp","") -> *Refer to UNDP Readiness and Preparatory Support Framework Agreement for further guidance: https://www.greenclimate.fund/document/readiness-framework-agreement-undp | E41: =+E32+E38+E37 -> 829493
C42: SUMMARY
...

Sheet 6.2 Procurement Plan
A1: 6.2 Procurement Plan
A2: For goods, services, and consultancies to be procured, please list the items, descriptions in relation to the activities in Section 3, estimated cost, procurement method, relevant threshold, and the estimated dates. Please provide a full procurement plan for the entire duration of the implementation period.
A3: Procurement Plan Approval Date:
A4: Please check out the example in the table below, and remove the items before including the proposal's entries. At the proposal submision stage, please populate the raws dedicated to planned items.
A6: No | B6: Status | C6: Item Description | D6: Category | E6: Estimated Cost (US$) | F6: Current Estimated Cost (please indicate latest estimated/actual cost) | G6: Procurement Method (e.g. open, limited RFP,ITB,RFQ) | H6: Thresholds as per applicable procurement policy (Min-Max monetary value for which indicated procurement method must be used) | I6: Name of Entity executing Procurement (DP/EE, etc.) | J6: Date of initiating procurement (Tender Issuence) | K6: Estimated contract start date | L6: Remarks
A7: 1 | B7: Planned | C7: National technical consultants to support CCA mainstreaming activities, complement the work of firms in integrating the CCA into methodologies/analysis, and facilitate the dialogue with development partners in Serbia in aligning the project outputs and results with the SDGs, UN Development Partnership Framework for Serbia, NDC, etc. as well as policy dialogue at national and sub-national levels. Consultants will also provide policy analysis and technical input to align the project with other adaptation related initiatives supported by UNDP, UN Agencies and other development partners in Serbia. Estimated to 580 days, USD 250/day | D7: Consulting Services (Individual Consultants) | E7: 145000 | G7: Competitive procurement | H7: 5000 to 149999 | I7: DP | J7: Y1/Q1 | K7: Y1/Q1
A8: 1 | B8: Revised1
A9: 1 | B9: Actual
A10: 2 | B10: Planned | C10: 1 (or more) international consultant(s) to ensure Q/A & Q/C of the process of CCA mainstreaming, ensure guidance and propose recommendations for the CCA integration into methodologies to be initiated or drafted through this project. Estimated to 40 days, USD 500/day. | D10: Consulting Services (Individual Consultants) | E10: 20000 | G10: Competitive procurement | H10: 5000-149,999 | I10: DP | J10: Y1/Q2 | K10: Y1/Q2
A11: 2 | B11: Revised1
A12: 2 | B12: Actual
A13: 3 | B13: Planned | C13: Hiring of individual consultants to assist the development of methodologies and/or reports setting basis for nine methodologies (Methodology for the assessment of losses, damage and needs from hazards; Methodology for development and content of disaster risk assessment and plan for protection and rescue; Methodology for monitoring of drought as a multidimensional climate hazard relevant for various sectors, considering its impact and duration; Methodology for zoning of fruit growing areas considering climate change; Methodology for zoning viticulture areas considering climate change; Methodology for monitoring the condition and vulnerability of species, habitats and ecosystems with proposed measures for adaptation to climate change; Report on introduction of climate change adaptation aspects in the Nature protection program; Report on the methodology for the analysis of impact of climate change on the distribution of heating and cooling degree days in reported and projected climate change; Report on the methodology for short and long-term forecasting of heating and cooling degree days). Estimated 1200 working days, fee $250/day. | D13: Consulting Services (Individual Consultants) | E13: 320000 | G13: Competitive procurement | H13: 150,000 and above | I13: DP | J13: Y1/Q2 | K13: Y1/Q2
A14: 3 | B14: Revised1
A15: 3 | B15: Actual
A16: 4 | B16: Planned | C16: Hiring of local or international firm(s) to provide integrated services related to: maintenance and update of the Digital Climate Atlas, ToR for development of the Study on the needs for artificial water reservoirs and capacities for collection and storage of atmospheric water for irrigation purposes; Training module on climate-sensitive budgetary planning, CCA investment and progress measurement; Training module on nationally and internationally financing mechanisms available; Draft Concept Notes for two pilot investment projects; Proposal for establishment of funding mechanism. There may be synergies between available firms that will reduce the number of contracts – will be assessed during the procurement process. | D16: Consulting Services (Professional Firms) | E16: 225000 | G16: Open - RFP | H16: 150,000 and above | I16: DP | J16: Y1/Q2 | K16: Y1/Q2
A17: 4 | B17: Revised1
A18: 4 | B18: Actual
A19: 5 | B19: Planned | C19: Costs associated with renting facilities and hosting public meetings associated with project coordination. This assumes ~3 meetings/month of the project at USD 1,100 per meeting. | D19: Non-Consulting Services | E19: 45693 | G19: Micro-purchasing | H19: Below 5,000 | I19: DP | J19: Y1/Q1 | K19: =Table3[[#This Row],[Date of initiating procurement (Tender Issuence) ]] -> Y1/Q1
A20: 5 | B20: Revised1
A21: 5 | B21: Actual
A22: 6 | B22: Planned | C22: Various IT Equipment (Laptops, printer etc.) acquired throughout the length of the project. See Budget Note E. Assume all purchases under USD 5,000 | D22: Goods | E22: 8000 | G22: Micro-purchasing | H22: Below 5,000 | I22: DP | J22: Y1/Q1 | K22: =Table3[[#This Row],[Date of initiating procurement (Tender Issuence) ]] -> Y1/Q1
A23: 6 | B23: Revised1
A24: 6 | B24: Actual
A25: 7 | B25: Planned | C25: Hiring of a firm to perform project audit. See Budget Note "I" | D25: Non-Consulting Services | E25: 6000 | G25: Request for quotation | H25: 5000 to 149,999 | I25: DP | J25: Y1/Q3 | K25: =Table3[[#This Row],[Date of initiating procurement (Tender Issuence) ]] -> Y1/Q3
A26: 7 | B26: Revised1
A27: 7 | B27: Actual
A28: 8 | B28: Planned | C28: Project coordinator. Full-time engagement over 2 years of project implementation will be responsible for the day-to-day coordination of the project activities. S/he will further be responsible for providing technical analysis of issues related to project outcomes, strategic support and drafting of TORs across all outputs; development of knowledge products; and drafting of key project reports such as the inception report, project reports, annual work plans and budgets. | D28: Consulting Services (Individual Consultants) | E28: 30000 | G28: Competitive procurement | H28: 30,000 to 90,000 | I28: DP | J28: Y1/Q2 | K28: =Table3[[#This Row],[Date of initiating procurement (Tender Issuence) ]] -> Y1/Q2
A29: 8 | B29: Revised1
A30: 8 | B30: Actual
A31: 9 | B31: Planned | C31: Project Assistant: Full-time engagement for Quality Assurance and Monitoring of annual work plans and budgets with close monitoring of the overall project progress to be in line with project reporting requirements, including logistics and administrative support of project implementation; administrative management of the project budget, required procurement support, etc.; as well as controlling project expenditures and maintaining up to date business and financial documentation, in accordance with project reporting requirement. | D31: Consulting Services (Individual Consultants) | E31: 18000 | G31: Competitive procurement | H31: 10,000 to 30,000 | I31: DP | J31: Y1/Q2 | K31: =Table3[[#This Row],[Date of initiating procurement (Tender Issuence) ]] -> Y1/Q2
A32: 9 | B32: Revised1
A33: 9 | B33: Actual
A34: 10 | B34: Planned | C34: Costs associated with the production and distribution of communication resources (newsletters, brochures, fact sheets, etc.), outreach, lessons learnt and best practice, as well as knowledge modules. | D34: Non-Consulting Services | E34: 1000 | G34: Micro- purchasing | H34: Below US $5,000 | I34: DP | J34: Y1/Q1 | K34: Y2/Q4
B35: Planned | C35: Total $(USD) | E35: =E7+E10+E13+E16+E19+E22+E25+E28+E31+E34 -> 818693
B36: Revised1 | C36: Total $(USD) | E36: =SUM(E8+E11+E17+E20+E23+E26+E29+E32) -> 0
B37: Actual | C37: Total $(USD) | E37: =SUM(E9+E12+E18+E21+E24+E27+E30+E33) -> 0
B39: Breakdown per Category
B40: Planned Goods | C40: Total $(USD) | E40: =SUMIF(D7:D34,"Goods",E7:E34) -> 8000
B41: Planned Non-Consulting Services | C41: Total $(USD) | E41: =SUMIF(D7:D34,"Non-Consulting Services",E7:E34) -> 52693
B42: Planned Works | C42: Total $(USD) | E42: =SUMIF(D7:D34,"Works",E7:E34) -> 0
...

Sheet 6.2.1 Procurement Plan Revision
A1: 6.2 Procurement Plan
A2: For goods, services, and consultancies to be procured, please list the items, descriptions in relation to the activities in Section 3, estimated cost, procurement method, relevant threshold, and the estimated dates. Please provide a full procurement plan for the entire duration of the implementation period.
A3: Procurement Plan Approval Date:
A4: Please check out the example in the table below, and remove the items before including the proposal's entries. At the proposal submision stage, please populate the raws dedicated to planned items.
A6: No | B6: Status | C6: Item Description | D6: Category | E6: Estimated Cost (US$) | F6: Current Estimated Cost (please indicate latest estimated/actual cost) | G6: Procurement Method (e.g. open, limited RFP,ITB,RFQ) | H6: Thresholds as per applicable procurement policy (Min-Max monetary value for which indicated procurement method must be used) | I6: Name of Entity executing Procurement (DP/EE, etc.) | J6: Date of initiating procurement (Tender Issuence) | K6: Estimated contract start date | L6: Remarks
A7: 1 | B7: Planned | C7: =Table3[[#This Row],[Item Description ]] -> National technical consultants to support CCA mainstreaming activities, complement the work of firms in integrating the CCA into methodologies/analysis, and facilitate the dialogue with development partners in Serbia in aligning the project outputs and results with the SDGs, UN Development Partnership Framework for Serbia, NDC, etc. as well as policy dialogue at national and sub-national levels. Consultants will also provide policy analysis and technical input to align the project with other adaptation related initiatives supported by UNDP, UN Agencies and other development partners in Serbia. Estimated to 580 days, USD 250/day | D7: =Table3[[#This Row],[Category ]] -> Consulting Services (Individual Consultants) | E7: =Table3[[#This Row],[Estimated Cost (US$)]] -> 145000 | F7: =Table3[[#This Row],[Current Estimated Cost (please indicate latest estimated/actual cost) ]] -> 0 | G7: =Table3[[#This Row],[Procurement Method (e.g. open, limited RFP,ITB,RFQ) ]] -> Competitive procurement | H7: =Table3[[#This Row],[Thresholds as per applicable procurement policy (Min-Max monetary value for which indicated procurement method must be used)]] -> 5000 to 149999 | I7: =Table3[[#This Row],[Name of Entity executing Procurement (DP/EE, etc.) ]] -> DP | J7: =Table3[[#This Row],[Date of initiating procurement (Tender Issuence) ]] -> Y1/Q1 | K7: =Table3[[#This Row],[Estimated contract start date]] -> Y1/Q1 | L7: =Table3[[#This Row],[Remarks]] -> 0
A8: 1 | B8: Revised1 | C8: National technical consultants to support CCA mainstreaming activities, complement the work of firms in integrating the CCA into methodologies/analysis, and facilitate the dialogue with development partners in Serbia in aligning the project outputs and results with the SDGs, UN Development Partnership Framework for Serbia, NDC, etc. as well as policy dialogue at national and sub-national levels. Consultants will also provide policy analysis and technical input to align the project with other adaptation related initiatives supported by UNDP, UN Agencies and other development partners in Serbia. Estimated to 580 days, USD 250/day | D8: Consulting Services (Individual Consultants) | E8: 75000 | G8: Competitive procurement | H8: 5000 to 149999 | I8: DP | J8: Y1/Q3 | K8: Y1/Q3
A9: 1 | B9: Actual
A10: 2 | B10: Planned | C10: =Table3[[#This Row],[Item Description ]] -> 1 (or more) international consultant(s) to ensure Q/A & Q/C of the process of CCA mainstreaming, ensure guidance and propose recommendations for the CCA integration into methodologies to be initiated or drafted through this project. Estimated to 40 days, USD 500/day. | D10: =Table3[[#This Row],[Category ]] -> Consulting Services (Individual Consultants) | E10: =Table3[[#This Row],[Estimated Cost (US$)]] -> 20000 | F10: =Table3[[#This Row],[Current Estimated Cost (please indicate latest estimated/actual cost) ]] -> 0 | G10: =Table3[[#This Row],[Procurement Method (e.g. open, limited RFP,ITB,RFQ) ]] -> Competitive procurement | H10: =Table3[[#This Row],[Thresholds as per applicable procurement policy (Min-Max monetary value for which indicated procurement method must be used)]] -> 5000-149,999 | I10: =Table3[[#This Row],[Name of Entity executing Procurement (DP/EE, etc.) ]] -> DP | J10: =Table3[[#This Row],[Date of initiating procurement (Tender Issuence) ]] -> Y1/Q2 | K10: =Table3[[#This Row],[Estimated contract start date]] -> Y1/Q2 | L10: =Table3[[#This Row],[Remarks]] -> 0
A11: 2 | B11: Revised1 | C11: 1 (or more) international consultant(s) to ensure Q/A & Q/C of the process of CCA mainstreaming, ensure guidance and propose recommendations for the CCA integration into methodologies to be initiated or drafted through this project. Estimated to 40 days, USD 500/day. | D11: Consulting Services (Individual Consultants) | E11: 20000 | F11: 0 | G11: Competitive procurement | H11: 5000-149999 | I11: DP | J11: Y1/Q4 | K11: Y1/Q4
A12: 2 | B12: Revised2
A13: 2 | B13: Actual
A14: 3 | B14: Planned | C14: ='6.2 Procurement Plan'!C13 -> Hiring of individual consultants to assist the development of methodologies and/or reports setting basis for nine methodologies (Methodology for the assessment of losses, damage and needs from hazards; Methodology for development and content of disaster risk assessment and plan for protection and rescue; Methodology for monitoring of drought as a multidimensional climate hazard relevant for various sectors, considering its impact and duration; Methodology for zoning of fruit growing areas considering climate change; Methodology for zoning viticulture areas considering climate change; Methodology for monitoring the condition and vulnerability of species, habitats and ecosystems with proposed measures for adaptation to climate change; Report on introduction of climate change adaptation aspects in the Nature protection program; Report on the methodology for the analysis of impact of climate change on the distribution of heating and cooling degree days in reported and projected climate change; Report on the methodology for short and long-term forecasting of heating and cooling degree days). Estimated 1200 working days, fee $250/day. | D14: ='6.2 Procurement Plan'!D13 -> Consulting Services (Individual Consultants) | E14: ='6.2 Procurement Plan'!E13 -> 320000 | F14: ='6.2 Procurement Plan'!F13 -> 0 | G14: ='6.2 Procurement Plan'!G13 -> Competitive procurement | H14: ='6.2 Procurement Plan'!H13 -> 150,000 and above | I14: ='6.2 Procurement Plan'!I13 -> DP | J14: ='6.2 Procurement Plan'!J13 -> Y1/Q2 | ... L14: ='6.2 Procurement Plan'!L13 -> 0
A15: 3 | B15: Revised1 | C15: Hiring of individual consultants to assist the development of methodologies and/or reports setting basis for nine methodologies (Methodology for the assessment of losses, damage and needs from hazards; Methodology for development and content of disaster risk assessment and plan for protection and rescue; Methodology for monitoring of drought as a multidimensional climate hazard relevant for various sectors, considering its impact and duration; Methodology for zoning of fruit growing areas considering climate change; Methodology for zoning viticulture areas considering climate change; Methodology for monitoring the condition and vulnerability of species, habitats and ecosystems with proposed measures for adaptation to climate change; Report on introduction of climate change adaptation aspects in the Nature protection program; Report on the methodology for the analysis of impact of climate change on the distribution of heating and cooling degree days in reported and projected climate change; Report on the methodology for short and long-term forecasting of heating and cooling degree days). Estimated 1200 working days, fee $250/day. | D15: Consulting Services (Individual Consultants) | E15: 175000 | G15: Competitive procurement and direct contracting | H15: 5000-149999 | I15: DP | J15: Y1/Q3 | K15: Y1/Q3 | L15: ='6.2 Procurement Plan'!L14 -> 0
A16: 3 | B16: Actual
A17: 4 | B17: Planned | C17: ='6.2 Procurement Plan'!C16 -> Hiring of local or international firm(s) to provide integrated services related to: maintenance and update of the Digital Climate Atlas, ToR for development of the Study on the needs for artificial water reservoirs and capacities for collection and storage of atmospheric water for irrigation purposes; Training module on climate-sensitive budgetary planning, CCA investment and progress measurement; Training module on nationally and internationally financing mechanisms available; Draft Concept Notes for two pilot investment projects; Proposal for establishment of funding mechanism. There may be synergies between available firms that will reduce the number of contracts – will be assessed during the procurement process. | D17: ='6.2 Procurement Plan'!D16 -> Consulting Services (Professional Firms) | E17: ='6.2 Procurement Plan'!E16 -> 225000 | F17: ='6.2 Procurement Plan'!F16 -> 0 | G17: ='6.2 Procurement Plan'!G16 -> Open - RFP | H17: ='6.2 Procurement Plan'!H16 -> 150,000 and above | I17: ='6.2 Procurement Plan'!I16 -> DP | J17: ='6.2 Procurement Plan'!J16 -> Y1/Q2 | ... L17: ='6.2 Procurement Plan'!L16 -> 0
A18: 4 | B18: Revised1 | C18: Hiring of local or international firm(s) to provide integrated services related to: maintenance and update of the Digital Climate Atlas, ToR for development of the Study on the needs for artificial water reservoirs and capacities for collection and storage of atmospheric water for irrigation purposes; Training module on climate-sensitive budgetary planning, CCA investment and progress measurement; Training module on nationally and internationally financing mechanisms available; Draft Concept Notes for two pilot investment projects; Proposal for establishment of funding mechanism. There may be synergies between available firms that will reduce the number of contracts – will be assessed during the procurement process. | D18: Consulting Services (Professional Firms) | E18: 225000 | F18: 0 | G18: Open - RFP | H18: Up to 149,999 | I18: DP | J18: Y2/Q1 | K18: Y2/Q2
A19: 4 | B19: Actual
A20: 5 | B20: Planned | C20: ='6.2 Procurement Plan'!C19 -> Costs associated with renting facilities and hosting public meetings associated with project coordination. This assumes ~3 meetings/month of the project at USD 1,100 per meeting. | D20: ='6.2 Procurement Plan'!D19 -> Non-Consulting Services | E20: ='6.2 Procurement Plan'!E19 -> 45693 | F20: ='6.2 Procurement Plan'!F19 -> 0 | G20: ='6.2 Procurement Plan'!G19 -> Micro-purchasing | H20: ='6.2 Procurement Plan'!H19 -> Below 5,000 | I20: ='6.2 Procurement Plan'!I19 -> DP | J20: ='6.2 Procurement Plan'!J19 -> Y1/Q1 | ... L20: ='6.2 Procurement Plan'!L19 -> 0
A21: 5 | B21: Revised1 | C21: Costs associated with renting facilities and hosting public meetings associated with project coordination. This assumes ~3 meetings/month of the project at USD 1,100 per meeting. | D21: Non-Consulting Services | E21: 45693 | F21: 0 | G21: Micro-ourchasing | H21: Below 5,000 | I21: DP | J21: Y1/Q1 | K21: Y1/Q1
A22: 5 | B22: Actual
A23: 6 | B23: Planned | C23: ='6.2 Procurement Plan'!C22 -> Various IT Equipment (Laptops, printer etc.) acquired throughout the length of the project. See Budget Note E. Assume all purchases under USD 5,000 | D23: ='6.2 Procurement Plan'!D22 -> Goods | E23: ='6.2 Procurement Plan'!E22 -> 8000 | F23: ='6.2 Procurement Plan'!F22 -> 0 | G23: ='6.2 Procurement Plan'!G22 -> Micro-purchasing | H23: ='6.2 Procurement Plan'!H22 -> Below 5,000 | I23: ='6.2 Procurement Plan'!I22 -> DP | J23: ='6.2 Procurement Plan'!J22 -> Y1/Q1 | ... L23: ='6.2 Procurement Plan'!L22 -> 0
A24: 6 | B24: Revised1 | C24: Various IT Equipment (Laptops, printer etc.) acquired throughout the length of the project. See Budget Note E. Assume all purchases under USD 5,000 | D24: Goods | E24: 8000 | F24: 0 | G24: Micro-ourchasing | H24: Below 5,000 | I24: DP | J24: Y1/Q1 | K24: Y1/Q1
A25: 6 | B25: Actual
A26: 7 | B26: Planned | C26: ='6.2 Procurement Plan'!C25 -> Hiring of a firm to perform project audit. See Budget Note "I" | D26: ='6.2 Procurement Plan'!D25 -> Non-Consulting Services | E26: ='6.2 Procurement Plan'!E25 -> 6000 | F26: ='6.2 Procurement Plan'!F25 -> 0 | G26: ='6.2 Procurement Plan'!G25 -> Request for quotation | H26: ='6.2 Procurement Plan'!H25 -> 5000 to 149,999 | I26: ='6.2 Procurement Plan'!I25 -> DP | J26: ='6.2 Procurement Plan'!J25 -> Y1/Q3 | ... L26: ='6.2 Procurement Plan'!L25 -> 0
A27: 7 | B27: Revised1 | C27: Hiring of a firm to perform project audit. See Budget Note "I" | D27: Non-Consulting Services | E27: 6000 | G27: Request for quotation | H27: Up to 15,000 | I27: DP | J27: Y2/Q2 | K27: Y2/Q2
A28: 7 | B28: Actual
A29: 8 | B29: Planned | C29: ='6.2 Procurement Plan'!C28 -> Project coordinator. Full-time engagement over 2 years of project implementation will be responsible for the day-to-day coordination of the project activities. S/he will further be responsible for providing technical analysis of issues related to project outcomes, strategic support and drafting of TORs across all outputs; development of knowledge products; and drafting of key project reports such as the inception report, project reports, annual work plans and budgets. | D29: ='6.2 Procurement Plan'!D28 -> Consulting Services (Individual Consultants) | E29: ='6.2 Procurement Plan'!E28 -> 30000 | F29: ='6.2 Procurement Plan'!F28 -> 0 | G29: ='6.2 Procurement Plan'!G28 -> Competitive procurement | H29: ='6.2 Procurement Plan'!H28 -> 30,000 to 90,000 | I29: ='6.2 Procurement Plan'!I28 -> DP | J29: ='6.2 Procurement Plan'!J28 -> Y1/Q2 | ... L29: ='6.2 Procurement Plan'!L28 -> 0
A30: 8 | B30: Revised1 | C30: Project coordinator. Full-time engagement over 2 years of project implementation will be responsible for the day-to-day coordination of the project activities. S/he will further be responsible for providing technical analysis of issues related to project outcomes, strategic support and drafting of TORs across all outputs; development of knowledge products; and drafting of key project reports such as the inception report, project reports, annual work plans and budgets. | D30: Consulting Services (Individual Consultants) | E30: 30000 | G30: Competitive procurement | H30: 30,000 to 90,000 | I30: DP | J30: Y1/Q2 | K30: Y1/Q2
A31: 8 | B31: Actual
A32: 9 | B32: Planned | C32: ='6.2 Procurement Plan'!C31 -> Project Assistant: Full-time engagement for Quality Assurance and Monitoring of annual work plans and budgets with close monitoring of the overall project progress to be in line with project reporting requirements, including logistics and administrative support of project implementation; administrative management of the project budget, required procurement support, etc.; as well as controlling project expenditures and maintaining up to date business and financial documentation, in accordance with project reporting requirement. | D32: ='6.2 Procurement Plan'!D31 -> Consulting Services (Individual Consultants) | E32: ='6.2 Procurement Plan'!E31 -> 18000 | F32: ='6.2 Procurement Plan'!F31 -> 0 | G32: ='6.2 Procurement Plan'!G31 -> Competitive procurement | H32: ='6.2 Procurement Plan'!H31 -> 10,000 to 30,000 | I32: ='6.2 Procurement Plan'!I31 -> DP | J32: ='6.2 Procurement Plan'!J31 -> Y1/Q2 | ... L32: ='6.2 Procurement Plan'!L31 -> 0
A33: 9 | B33: Revised1 | C33: Project Assistant: Full-time engagement for Quality Assurance and Monitoring of annual work plans and budgets with close monitoring of the overall project progress to be in line with project reporting requirements, including logistics and administrative support of project implementation; administrative management of the project budget, required procurement support, etc.; as well as controlling project expenditures and maintaining up to date business and financial documentation, in accordance with project reporting requirement. | D33: Consulting Services (Individual Consultants) | E33: 18000 | F33: 0 | G33: Competitive procurement | H33: 10,000 to 30,000 | I33: DP | J33: Y1/Q2 | K33: Y1/Q2
A34: 9 | B34: Actual
A35: 10 | B35: Planned | C35: ='6.2 Procurement Plan'!C34 -> Costs associated with the production and distribution of communication resources (newsletters, brochures, fact sheets, etc.), outreach, lessons learnt and best practice, as well as knowledge modules. | D35: ='6.2 Procurement Plan'!D34 -> Non-Consulting Services | E35: ='6.2 Procurement Plan'!E34 -> 1000 | F35: ='6.2 Procurement Plan'!F34 -> 0 | G35: ='6.2 Procurement Plan'!G34 -> Micro- purchasing | H35: ='6.2 Procurement Plan'!H34 -> Below US $5,000 | I35: ='6.2 Procurement Plan'!I34 -> DP | J35: ='6.2 Procurement Plan'!J34 -> Y1/Q1 | ... L35: ='6.2 Procurement Plan'!L34 -> 0
A36: 10 | B36: Revised1 | C36: Costs associated with the production and distribution of communication resources (newsletters, brochures, fact sheets, etc.), outreach, lessons learnt and best practice, as well as knowledge modules. | D36: Non-Consulting Services | E36: 1000 | F36: 0 | G36: Micro- purchasing | H36: Below US $5,000 | I36: DP | J36: Y1/Q4 | K36: Y1/Q4
A37: 10 | B37: Actual
A38: 11 | B38: Planned | C38: ='6.2 Procurement Plan'!#REF! -> #REF! | D38: ='6.2 Procurement Plan'!#REF! -> #REF! | E38: ='6.2 Procurement Plan'!#REF! -> #REF! | F38: ='6.2 Procurement Plan'!#REF! -> #REF! | G38: ='6.2 Procurement Plan'!#REF! -> #REF! | H38: ='6.2 Procurement Plan'!#REF! -> #REF! | I38: ='6.2 Procurement Plan'!#REF! -> #REF! | J38: ='6.2 Procurement Plan'!#REF! -> #REF! | ... L38: ='6.2 Procurement Plan'!#REF! -> #REF!
A39: 11 | B39: Revised1
A40: 11 | B40: Actual
A41: 12 | B41: Planned | C41: ='6.2 Procurement Plan'!#REF! -> #REF! | D41: ='6.2 Procurement Plan'!#REF! -> #REF! | E41: ='6.2 Procurement Plan'!#REF! -> #REF! | F41: ='6.2 Procurement Plan'!#REF! -> #REF! | G41: ='6.2 Procurement Plan'!#REF! -> #REF! | H41: ='6.2 Procurement Plan'!#REF! -> #REF! | I41: ='6.2 Procurement Plan'!#REF! -> #REF! | J41: ='6.2 Procurement Plan'!#REF! -> #REF! | ... L41: ='6.2 Procurement Plan'!#REF! -> #REF!
...

Sheet Budget Category 
A1: Budget Categories
A2: Audio Visual & Printing
A3: Audit Fee
A4: Consultant - Individual - International
A5: Consultant - Individual - Local
A6: Professional Services – Companies/Firm
A7: IT Equipment
A8: Office Supplies
A9: Travel - International
A10: Travel – Local
A11: Workshop/Training
A12: Interest Income | B12: Indicate additional budget categories
A13: Contract Services Individuals
A14: Miscellaneous Expenses
A15: Contractual services-companies
A37: Choose percentage
A38: 0
A39: 0.01
A40: 0.02
A41: 0.03
A42: 0.04
A43: 0.05

Sheet Policy
A1: Applicable Policy | B1: Reallocation Threshold | C1: PMC Threshold
A2: Select Applicable Policy
A3: COVID Adaptive Measures | B3: 0.25 | C3: 0.125
A4: Standard Policy* | B4: 0.2 | C4: 0.075
A9: Choose percentage
A10: 0
A11: 0.01
A12: 0.02
A13: 0.03
A14: 0.04
A15: 0.05
